BEGIN:VCALENDAR
VERSION:2.0
PRODID:-//ONG YLLA - ECPv6.2.6//NONSGML v1.0//EN
CALSCALE:GREGORIAN
METHOD:PUBLISH
X-WR-CALNAME:ONG YLLA
X-ORIGINAL-URL:https://ongylla.org
X-WR-CALDESC:évènements pour ONG YLLA
REFRESH-INTERVAL;VALUE=DURATION:PT1H
X-Robots-Tag:noindex
X-PUBLISHED-TTL:PT1H
BEGIN:VTIMEZONE
TZID:UTC
BEGIN:STANDARD
TZOFFSETFROM:+0000
TZOFFSETTO:+0000
TZNAME:UTC
DTSTART:20230101T000000
END:STANDARD
END:VTIMEZONE
BEGIN:VEVENT
DTSTART;VALUE=DATE:20231007
DTEND;VALUE=DATE:20231008
DTSTAMP:20260421T110522
CREATED:20230911T093151Z
LAST-MODIFIED:20230918T083744Z
UID:4679-1696636800-1696723199@ongylla.org
SUMMARY:La Strasbourgeoise
DESCRIPTION:Participation à la Strasbourgeoise :\n\n 	Mobilisation auprès des quartiers prioritaires\n 	Reportage
URL:https://ongylla.org/event2/la-strasbourgeoise/
LOCATION:Strasbourg\, 1 place des orphelins\, Strasbourg\, France\, Strasbourg\, ALSACE BAS-RHIN\, 67000\, France
ORGANIZER;CN="ONG YLLA":MAILTO:ongylla7@gmail.com
END:VEVENT
END:VCALENDAR