BEGIN:VCALENDAR
VERSION:2.0
PRODID:-//ONG YLLA - ECPv6.2.6//NONSGML v1.0//EN
CALSCALE:GREGORIAN
METHOD:PUBLISH
X-WR-CALNAME:ONG YLLA
X-ORIGINAL-URL:https://ongylla.org
X-WR-CALDESC:évènements pour ONG YLLA
REFRESH-INTERVAL;VALUE=DURATION:PT1H
X-Robots-Tag:noindex
X-PUBLISHED-TTL:PT1H
BEGIN:VTIMEZONE
TZID:UTC
BEGIN:STANDARD
TZOFFSETFROM:+0000
TZOFFSETTO:+0000
TZNAME:UTC
DTSTART:20230101T000000
END:STANDARD
END:VTIMEZONE
BEGIN:VEVENT
DTSTART;VALUE=DATE:20231002
DTEND;VALUE=DATE:20231003
DTSTAMP:20260421T110712
CREATED:20230911T092828Z
LAST-MODIFIED:20230911T093532Z
UID:4675-1696204800-1696291199@ongylla.org
SUMMARY:Conférence de presse
DESCRIPTION:
URL:https://ongylla.org/event2/conference-de-presse/
LOCATION:Strasbourg\, 1 place des orphelins\, Strasbourg\, France\, Strasbourg\, ALSACE BAS-RHIN\, 67000\, France
ORGANIZER;CN="ONG YLLA":MAILTO:ongylla7@gmail.com
END:VEVENT
END:VCALENDAR